BEGIN:VCALENDAR
VERSION:2.0
PRODID:-//วัดสุทัศนเทพวรารามราชวรมหาวิหาร- Watsuthatthepwararam - ECPv6.15.20//NONSGML v1.0//EN
CALSCALE:GREGORIAN
METHOD:PUBLISH
X-ORIGINAL-URL:https://watsuthatthepwararam.org
X-WR-CALDESC:Events for วัดสุทัศนเทพวรารามราชวรมหาวิหาร- Watsuthatthepwararam
REFRESH-INTERVAL;VALUE=DURATION:PT1H
X-Robots-Tag:noindex
X-PUBLISHED-TTL:PT1H
BEGIN:VTIMEZONE
TZID:UTC
BEGIN:STANDARD
TZOFFSETFROM:+0000
TZOFFSETTO:+0000
TZNAME:UTC
DTSTART:20250101T000000
END:STANDARD
END:VTIMEZONE
BEGIN:VEVENT
DTSTART;TZID=UTC:20260424T080000
DTEND;TZID=UTC:20260424T180000
DTSTAMP:20260422T194559
CREATED:20260422T091004Z
LAST-MODIFIED:20260422T091004Z
UID:724-1777017600-1777053600@watsuthatthepwararam.org
SUMMARY:บำเพ็ญกุศลถวายแด่สมเด็จพระนางเจ้า สิริกิตพระบรมราชชนนีพันปีหลวง
DESCRIPTION:
URL:https://watsuthatthepwararam.org/event/%e0%b8%9a%e0%b8%b3%e0%b9%80%e0%b8%9e%e0%b9%87%e0%b8%8d%e0%b8%81%e0%b8%b8%e0%b8%a8%e0%b8%a5%e0%b8%96%e0%b8%a7%e0%b8%b2%e0%b8%a2%e0%b9%81%e0%b8%94%e0%b9%88%e0%b8%aa%e0%b8%a1%e0%b9%80%e0%b8%94%e0%b9%87/
END:VEVENT
BEGIN:VEVENT
DTSTART;TZID=UTC:20260504T080000
DTEND;TZID=UTC:20260504T170000
DTSTAMP:20260422T194559
CREATED:20260422T091035Z
LAST-MODIFIED:20260422T091035Z
UID:726-1777881600-1777914000@watsuthatthepwararam.org
SUMMARY:สาธยายพระไตรปิฎก เนื่องในวันฉัตรมงคล
DESCRIPTION:
URL:https://watsuthatthepwararam.org/event/%e0%b8%aa%e0%b8%b2%e0%b8%98%e0%b8%a2%e0%b8%b2%e0%b8%a2%e0%b8%9e%e0%b8%a3%e0%b8%b0%e0%b9%84%e0%b8%95%e0%b8%a3%e0%b8%9b%e0%b8%b4%e0%b8%8e%e0%b8%81-%e0%b9%80%e0%b8%99%e0%b8%b7%e0%b9%88%e0%b8%ad%e0%b8%87/
END:VEVENT
BEGIN:VEVENT
DTSTART;TZID=UTC:20260524T080000
DTEND;TZID=UTC:20260524T170000
DTSTAMP:20260422T194559
CREATED:20260422T091114Z
LAST-MODIFIED:20260422T091114Z
UID:728-1779609600-1779642000@watsuthatthepwararam.org
SUMMARY:บำเพ็ญกุศลถวายแด่สมเด็จพระนางเจ้า สิริกิตพระบรมราชชนนีพันปีหลวง
DESCRIPTION:
URL:https://watsuthatthepwararam.org/event/%e0%b8%9a%e0%b8%b3%e0%b9%80%e0%b8%9e%e0%b9%87%e0%b8%8d%e0%b8%81%e0%b8%b8%e0%b8%a8%e0%b8%a5%e0%b8%96%e0%b8%a7%e0%b8%b2%e0%b8%a2%e0%b9%81%e0%b8%94%e0%b9%88%e0%b8%aa%e0%b8%a1%e0%b9%80%e0%b8%94%e0%b9%87-2/
END:VEVENT
BEGIN:VEVENT
DTSTART;VALUE=DATE:20260531
DTEND;VALUE=DATE:20260601
DTSTAMP:20260422T194559
CREATED:20260422T091139Z
LAST-MODIFIED:20260422T091147Z
UID:730-1780185600-1780271999@watsuthatthepwararam.org
SUMMARY:วันวิสาขบูชา
DESCRIPTION:
URL:https://watsuthatthepwararam.org/event/%e0%b8%a7%e0%b8%b1%e0%b8%99%e0%b8%a7%e0%b8%b4%e0%b8%aa%e0%b8%b2%e0%b8%82%e0%b8%9a%e0%b8%b9%e0%b8%8a%e0%b8%b2/
END:VEVENT
BEGIN:VEVENT
DTSTART;VALUE=DATE:20260607
DTEND;VALUE=DATE:20260608
DTSTAMP:20260422T194559
CREATED:20260422T091223Z
LAST-MODIFIED:20260422T091223Z
UID:732-1780790400-1780876799@watsuthatthepwararam.org
SUMMARY:วันอัฐมีบูชา
DESCRIPTION:
URL:https://watsuthatthepwararam.org/event/%e0%b8%a7%e0%b8%b1%e0%b8%99%e0%b8%ad%e0%b8%b1%e0%b8%90%e0%b8%a1%e0%b8%b5%e0%b8%9a%e0%b8%b9%e0%b8%8a%e0%b8%b2/
END:VEVENT
END:VCALENDAR